BEGIN:VCALENDAR
VERSION:2.0
PRODID:-//wp-events-plugin.com//7.2.3.1//EN
TZID:Asia/Jakarta
X-WR-TIMEZONE:Asia/Jakarta
BEGIN:VEVENT
UID:37@sarpras.polman-bandung.ac.id
DTSTART;TZID=Asia/Jakarta:20251116T070000
DTEND;TZID=Asia/Jakarta:20251116T170000
DTSTAMP:20251111T042611Z
URL:https://sarpras.polman-bandung.ac.id/events/training-softskill-hmtpl-x
 -iom/
SUMMARY:Training Softskill HMTPL X IOM
DESCRIPTION:Training Softskill HMTPL X IOM\n\nTempat : Auditorium\n\nJam : 
 07.00 - 17.00\n\nPIC : Mahasiswa Rey M. Akbar ( 082382846672)
CATEGORIES:Auditorium
END:VEVENT
BEGIN:VTIMEZONE
TZID:Asia/Jakarta
X-LIC-LOCATION:Asia/Jakarta
BEGIN:STANDARD
DTSTART:20241116T070000
TZOFFSETFROM:+0700
TZOFFSETTO:+0700
TZNAME:WIB
END:STANDARD
END:VTIMEZONE
END:VCALENDAR